BEGIN:VCALENDAR
VERSION:2.0
PRODID:-//Acadiana Central Office - ECPv6.15.20//NONSGML v1.0//EN
CALSCALE:GREGORIAN
METHOD:PUBLISH
X-WR-CALNAME:Acadiana Central Office
X-ORIGINAL-URL:https://aa-acadiana.org
X-WR-CALDESC:Events for Acadiana Central Office
REFRESH-INTERVAL;VALUE=DURATION:PT1H
X-Robots-Tag:noindex
X-PUBLISHED-TTL:PT1H
BEGIN:VTIMEZONE
TZID:America/Chicago
BEGIN:DAYLIGHT
TZOFFSETFROM:-0600
TZOFFSETTO:-0500
TZNAME:CDT
DTSTART:20240310T080000
END:DAYLIGHT
BEGIN:STANDARD
TZOFFSETFROM:-0500
TZOFFSETTO:-0600
TZNAME:CST
DTSTART:20241103T070000
END:STANDARD
BEGIN:DAYLIGHT
TZOFFSETFROM:-0600
TZOFFSETTO:-0500
TZNAME:CDT
DTSTART:20250309T080000
END:DAYLIGHT
BEGIN:STANDARD
TZOFFSETFROM:-0500
TZOFFSETTO:-0600
TZNAME:CST
DTSTART:20251102T070000
END:STANDARD
BEGIN:DAYLIGHT
TZOFFSETFROM:-0600
TZOFFSETTO:-0500
TZNAME:CDT
DTSTART:20260308T080000
END:DAYLIGHT
BEGIN:STANDARD
TZOFFSETFROM:-0500
TZOFFSETTO:-0600
TZNAME:CST
DTSTART:20261101T070000
END:STANDARD
END:VTIMEZONE
BEGIN:VEVENT
DTSTART;TZID=America/Chicago:20251122T080000
DTEND;TZID=America/Chicago:20251122T120000
DTSTAMP:20260424T072514
CREATED:20251117T223417Z
LAST-MODIFIED:20251117T223603Z
UID:14244-1763798400-1763812800@aa-acadiana.org
SUMMARY:Area 27 Archives Work Day
DESCRIPTION:Do you want to help with organizing and saving the history of AA in Louisiana? Join us at the AA Archives on Saturdays this fall.
URL:https://aa-acadiana.org/event/area-27-archives-work-day/
LOCATION:Area 27 Archives\, 8676 Goodwood Blvd\, Suite A\, Baton Rouge\, Louisiana\, 70806\, United States
ORGANIZER;CN="Area 27":MAILTO:chair@aa-louisiana.org
END:VEVENT
END:VCALENDAR