BEGIN:VCALENDAR
VERSION:2.0
PRODID:-//Acadiana Central Office - ECPv6.15.20//NONSGML v1.0//EN
CALSCALE:GREGORIAN
METHOD:PUBLISH
X-WR-CALNAME:Acadiana Central Office
X-ORIGINAL-URL:https://aa-acadiana.org
X-WR-CALDESC:Events for Acadiana Central Office
REFRESH-INTERVAL;VALUE=DURATION:PT1H
X-Robots-Tag:noindex
X-PUBLISHED-TTL:PT1H
BEGIN:VTIMEZONE
TZID:America/Chicago
BEGIN:DAYLIGHT
TZOFFSETFROM:-0600
TZOFFSETTO:-0500
TZNAME:CDT
DTSTART:20240310T080000
END:DAYLIGHT
BEGIN:STANDARD
TZOFFSETFROM:-0500
TZOFFSETTO:-0600
TZNAME:CST
DTSTART:20241103T070000
END:STANDARD
BEGIN:DAYLIGHT
TZOFFSETFROM:-0600
TZOFFSETTO:-0500
TZNAME:CDT
DTSTART:20250309T080000
END:DAYLIGHT
BEGIN:STANDARD
TZOFFSETFROM:-0500
TZOFFSETTO:-0600
TZNAME:CST
DTSTART:20251102T070000
END:STANDARD
BEGIN:DAYLIGHT
TZOFFSETFROM:-0600
TZOFFSETTO:-0500
TZNAME:CDT
DTSTART:20260308T080000
END:DAYLIGHT
BEGIN:STANDARD
TZOFFSETFROM:-0500
TZOFFSETTO:-0600
TZNAME:CST
DTSTART:20261101T070000
END:STANDARD
END:VTIMEZONE
BEGIN:VEVENT
DTSTART;TZID=America/Chicago:20251224T180000
DTEND;TZID=America/Chicago:20251225T190000
DTSTAMP:20260424T061508
CREATED:20251212T130828Z
LAST-MODIFIED:20251212T130829Z
UID:14284-1766599200-1766689200@aa-acadiana.org
SUMMARY:2025 ACO Christmas Alcathon
DESCRIPTION:
URL:https://aa-acadiana.org/event/2025-aco-christmas-alcathon/
LOCATION:Turning Point\, 210 Eighth St\, Lafayette\, Louisiana\, 70501\, United States
ATTACH;FMTTYPE=image/png:https://aa-acadiana.org/wp-content/uploads/2025/12/Alcathons-2025.png
ORGANIZER;CN="Acadiana Central Office":MAILTO:events@aa-acadiana.org
END:VEVENT
END:VCALENDAR