BEGIN:VCALENDAR
VERSION:2.0
PRODID:-//Acadiana Central Office - ECPv6.15.20//NONSGML v1.0//EN
CALSCALE:GREGORIAN
METHOD:PUBLISH
X-WR-CALNAME:Acadiana Central Office
X-ORIGINAL-URL:https://aa-acadiana.org
X-WR-CALDESC:Events for Acadiana Central Office
REFRESH-INTERVAL;VALUE=DURATION:PT1H
X-Robots-Tag:noindex
X-PUBLISHED-TTL:PT1H
BEGIN:VTIMEZONE
TZID:America/Chicago
BEGIN:DAYLIGHT
TZOFFSETFROM:-0600
TZOFFSETTO:-0500
TZNAME:CDT
DTSTART:20250309T080000
END:DAYLIGHT
BEGIN:STANDARD
TZOFFSETFROM:-0500
TZOFFSETTO:-0600
TZNAME:CST
DTSTART:20251102T070000
END:STANDARD
BEGIN:DAYLIGHT
TZOFFSETFROM:-0600
TZOFFSETTO:-0500
TZNAME:CDT
DTSTART:20260308T080000
END:DAYLIGHT
BEGIN:STANDARD
TZOFFSETFROM:-0500
TZOFFSETTO:-0600
TZNAME:CST
DTSTART:20261101T070000
END:STANDARD
BEGIN:DAYLIGHT
TZOFFSETFROM:-0600
TZOFFSETTO:-0500
TZNAME:CDT
DTSTART:20270314T080000
END:DAYLIGHT
BEGIN:STANDARD
TZOFFSETFROM:-0500
TZOFFSETTO:-0600
TZNAME:CST
DTSTART:20271107T070000
END:STANDARD
END:VTIMEZONE
BEGIN:VEVENT
DTSTART;TZID=America/Chicago:20260522T170000
DTEND;TZID=America/Chicago:20260524T120000
DTSTAMP:20260424T024845
CREATED:20251117T225510Z
LAST-MODIFIED:20251117T231518Z
UID:14248-1779469200-1779624000@aa-acadiana.org
SUMMARY:36th Annual Southeast Louisiana Spring Roundup
DESCRIPTION:Courtyard by Marriot 101 Northpark Blvd Covington\, LA \n\n\n\n\n\n\n\n\n\n\n\n\nFlyer COMING SOON!
URL:https://aa-acadiana.org/event/36th-annual-southeast-louisiana-spring-roundup/
LOCATION:Courtyard New Orleans Covington/Mandeville\, 101 Northpark Blvd\, Covington\, Louisiana\, 70433
END:VEVENT
END:VCALENDAR