BEGIN:VCALENDAR
VERSION:2.0
PRODID:-//Acadiana Central Office - ECPv6.15.20//NONSGML v1.0//EN
CALSCALE:GREGORIAN
METHOD:PUBLISH
X-ORIGINAL-URL:https://aa-acadiana.org
X-WR-CALDESC:Events for Acadiana Central Office
REFRESH-INTERVAL;VALUE=DURATION:PT1H
X-Robots-Tag:noindex
X-PUBLISHED-TTL:PT1H
BEGIN:VTIMEZONE
TZID:America/Chicago
BEGIN:DAYLIGHT
TZOFFSETFROM:-0600
TZOFFSETTO:-0500
TZNAME:CDT
DTSTART:20230312T080000
END:DAYLIGHT
BEGIN:STANDARD
TZOFFSETFROM:-0500
TZOFFSETTO:-0600
TZNAME:CST
DTSTART:20231105T070000
END:STANDARD
BEGIN:DAYLIGHT
TZOFFSETFROM:-0600
TZOFFSETTO:-0500
TZNAME:CDT
DTSTART:20240310T080000
END:DAYLIGHT
BEGIN:STANDARD
TZOFFSETFROM:-0500
TZOFFSETTO:-0600
TZNAME:CST
DTSTART:20241103T070000
END:STANDARD
BEGIN:DAYLIGHT
TZOFFSETFROM:-0600
TZOFFSETTO:-0500
TZNAME:CDT
DTSTART:20250309T080000
END:DAYLIGHT
BEGIN:STANDARD
TZOFFSETFROM:-0500
TZOFFSETTO:-0600
TZNAME:CST
DTSTART:20251102T070000
END:STANDARD
BEGIN:DAYLIGHT
TZOFFSETFROM:-0600
TZOFFSETTO:-0500
TZNAME:CDT
DTSTART:20260308T080000
END:DAYLIGHT
BEGIN:STANDARD
TZOFFSETFROM:-0500
TZOFFSETTO:-0600
TZNAME:CST
DTSTART:20261101T070000
END:STANDARD
BEGIN:DAYLIGHT
TZOFFSETFROM:-0600
TZOFFSETTO:-0500
TZNAME:CDT
DTSTART:20270314T080000
END:DAYLIGHT
BEGIN:STANDARD
TZOFFSETFROM:-0500
TZOFFSETTO:-0600
TZNAME:CST
DTSTART:20271107T070000
END:STANDARD
END:VTIMEZONE
BEGIN:VEVENT
DTSTART;TZID=America/Chicago:20260417T120000
DTEND;TZID=America/Chicago:20260419T120000
DTSTAMP:20260423T095123
CREATED:20240204T152500Z
LAST-MODIFIED:20260109T181215Z
UID:13746-1776427200-1776600000@aa-acadiana.org
SUMMARY:20th Fellowship Of The Spirit South
DESCRIPTION:FOTSS-2026\n\n\n\n\nCLICK HERE for Flyer!!\n\n\n\n\n \n\n\n\n\nClick HERE for Website!
URL:https://aa-acadiana.org/event/18th-fellowship-of-the-spirit-south/
LOCATION:Home 2 Suites by Hilton\, 1909 Kaliste Saloom Rd\, Lafayette\, Louisiana\, 70508\, United States
ATTACH;FMTTYPE=image/png:https://aa-acadiana.org/wp-content/uploads/2026/01/FOTSS-2026.png
ORGANIZER;CN="Fellowship of the Spirit South":MAILTO:chair@fotssouth.com
END:VEVENT
BEGIN:VEVENT
DTSTART;TZID=America/Chicago:20260411T080000
DTEND;TZID=America/Chicago:20260411T120000
DTSTAMP:20260423T095123
CREATED:20260325T190221Z
LAST-MODIFIED:20260325T190705Z
UID:14382-1775894400-1775908800@aa-acadiana.org
SUMMARY:Cajun Country Conference Poker Run
DESCRIPTION:Click HERE for Flyer!
URL:https://aa-acadiana.org/event/cajun-country-conference-poker-run/
LOCATION:Cajun Harley Davidson\, 741 I-10 S Frontage Rd\, Scott\, Louisiana\, United States
ATTACH;FMTTYPE=image/png:https://aa-acadiana.org/wp-content/uploads/2026/03/CCC-POKER-RUN-CROP.png
ORGANIZER;CN="Cajun Country Conference":MAILTO:cajuncountryconferencela@gmail.com
END:VEVENT
BEGIN:VEVENT
DTSTART;TZID=America/Chicago:20260410T120000
DTEND;TZID=America/Chicago:20260412T120000
DTSTAMP:20260423T095123
CREATED:20251117T233916Z
LAST-MODIFIED:20251117T234308Z
UID:14272-1775822400-1775995200@aa-acadiana.org
SUMMARY:LASCYPAA XL
DESCRIPTION:“This Is But A Beginning” \n\n\n\n\n\n\n\n\n\n \n\n\n\n\nClick HERE to Register!
URL:https://aa-acadiana.org/event/lascypaa-xl/
LOCATION:Camp Abbey Retreat Center\, 77002 K C Camp Rd\, Covington\, Louisiana\, 70435\, United States
ATTACH;FMTTYPE=image/png:https://aa-acadiana.org/wp-content/uploads/2025/11/LASCYPAA-XL.png
ORGANIZER;CN="LASCYPAA":MAILTO:chair@lascypaa.org
END:VEVENT
BEGIN:VEVENT
DTSTART;TZID=America/Chicago:20260330T060000
DTEND;TZID=America/Chicago:20260330T070000
DTSTAMP:20260423T095123
CREATED:20260325T184359Z
LAST-MODIFIED:20260325T184400Z
UID:14380-1774850400-1774854000@aa-acadiana.org
SUMMARY:SUN UP IS MOVING!!
DESCRIPTION:
URL:https://aa-acadiana.org/event/sun-up-is-moving/
LOCATION:Louisiana
ATTACH;FMTTYPE=image/jpeg:https://aa-acadiana.org/wp-content/uploads/2026/03/SunUp-Moving.jpg
END:VEVENT
BEGIN:VEVENT
DTSTART;TZID=America/Chicago:20260206T120000
DTEND;TZID=America/Chicago:20260208T120000
DTSTAMP:20260423T095123
CREATED:20251117T232032Z
LAST-MODIFIED:20251218T183459Z
UID:14261-1770379200-1770552000@aa-acadiana.org
SUMMARY:RedStick RoundUp 2026
DESCRIPTION:Click HERE for Flyer!
URL:https://aa-acadiana.org/event/redstick-roundup-2026/
LOCATION:Holiday Inn Baton Rouge South\, 9990 Airline Hwy\, Baton Rouge\, Louisiana\, 70816\, United States
END:VEVENT
BEGIN:VEVENT
DTSTART;TZID=America/Chicago:20260124T083000
DTEND;TZID=America/Chicago:20260125T120000
DTSTAMP:20260423T095123
CREATED:20240710T234217Z
LAST-MODIFIED:20251117T231402Z
UID:456-1769243400-1769342400@aa-acadiana.org
SUMMARY:Louisiana Area 27 Assembly (Q1/2026)
DESCRIPTION:What is an Area Assembly?“Any meetings of area GSRs and the area committee (all DCMs\, area officers\, and chairs of area service committees) is an assembly. The area assembly is the mainspring of the Conference structure–the democratic voice of the movement expressing itself… assembly meetings consider a variety of issues\, from General Service Conference business to area problems and solutions and financial affairs\, while sharing sessions\, public information programs\, workshops\, and video programs keep AA strong and participation in service growing.” – AA General Service Manual\, page S36 \n\n\n\n\nSchedule COMING SOON!\n\n\n\nClick HERE for Zoom!\n\n\n\n\n \n\n\n\n\nBook a Room!
URL:https://aa-acadiana.org/event/louisiana-area-27-assembly/
LOCATION:Holiday Inn Alexandria Downtown\, 701 4th St\, Alexandria\, Louisiana\, 71301\, United States
ATTACH;FMTTYPE=image/png:https://aa-acadiana.org/wp-content/uploads/2023/02/Area-27-Assembly.png
ORGANIZER;CN="Area 27":MAILTO:chair@aa-louisiana.org
END:VEVENT
BEGIN:VEVENT
DTSTART;TZID=America/Chicago:20260103T100000
DTEND;TZID=America/Chicago:20260103T133000
DTSTAMP:20260423T095123
CREATED:20251216T021530Z
LAST-MODIFIED:20251216T021650Z
UID:14310-1767434400-1767447000@aa-acadiana.org
SUMMARY:Sponsor Workshop
DESCRIPTION:
URL:https://aa-acadiana.org/event/sponsor-workshop/
LOCATION:Louisiana
ATTACH;FMTTYPE=image/jpeg:https://aa-acadiana.org/wp-content/uploads/2025/12/steps-workshop.jpeg
ORGANIZER;CN="Area 27":MAILTO:chair@aa-louisiana.org
END:VEVENT
BEGIN:VEVENT
DTSTART;TZID=America/Chicago:20251231T180000
DTEND;TZID=America/Chicago:20260101T190000
DTSTAMP:20260423T095123
CREATED:20251212T130949Z
LAST-MODIFIED:20251212T130950Z
UID:14308-1767204000-1767294000@aa-acadiana.org
SUMMARY:2025/26 ACO New Year's Alcathon
DESCRIPTION:
URL:https://aa-acadiana.org/event/2025-26-aco-new-years-alcathon/
LOCATION:Turning Point\, 210 Eighth St\, Lafayette\, Louisiana\, 70501\, United States
ATTACH;FMTTYPE=image/png:https://aa-acadiana.org/wp-content/uploads/2025/12/Alcathons-2025.png
ORGANIZER;CN="Acadiana Central Office":MAILTO:events@aa-acadiana.org
END:VEVENT
BEGIN:VEVENT
DTSTART;TZID=America/Chicago:20251224T180000
DTEND;TZID=America/Chicago:20251225T190000
DTSTAMP:20260423T095123
CREATED:20251212T130828Z
LAST-MODIFIED:20251212T130829Z
UID:14284-1766599200-1766689200@aa-acadiana.org
SUMMARY:2025 ACO Christmas Alcathon
DESCRIPTION:
URL:https://aa-acadiana.org/event/2025-aco-christmas-alcathon/
LOCATION:Turning Point\, 210 Eighth St\, Lafayette\, Louisiana\, 70501\, United States
ATTACH;FMTTYPE=image/png:https://aa-acadiana.org/wp-content/uploads/2025/12/Alcathons-2025.png
ORGANIZER;CN="Acadiana Central Office":MAILTO:events@aa-acadiana.org
END:VEVENT
BEGIN:VEVENT
DTSTART;TZID=America/Chicago:20251205T170000
DTEND;TZID=America/Chicago:20251207T120000
DTSTAMP:20260423T095123
CREATED:20251117T235821Z
LAST-MODIFIED:20251118T000636Z
UID:14286-1764954000-1765108800@aa-acadiana.org
SUMMARY:SSAASA 8
DESCRIPTION:Southern States AA Service Assembly 7 \n\n\n\n\n\n\n\n\nClick HERE for Website!
URL:https://aa-acadiana.org/event/ssaasa-8/
LOCATION:Hyatt Regency Dulles\, 2300 Dulles Corner Blvd\, Herndon\, Virginia\, 20171\, United States
ATTACH;FMTTYPE=image/png:https://aa-acadiana.org/wp-content/uploads/2025/11/SSAASA8.png
ORGANIZER;CN="SSAASA":MAILTO:Chair@ssaasa.com
END:VEVENT
BEGIN:VEVENT
DTSTART;TZID=America/Chicago:20251122T080000
DTEND;TZID=America/Chicago:20251122T120000
DTSTAMP:20260423T095123
CREATED:20251117T223417Z
LAST-MODIFIED:20251117T223603Z
UID:14244-1763798400-1763812800@aa-acadiana.org
SUMMARY:Area 27 Archives Work Day
DESCRIPTION:Do you want to help with organizing and saving the history of AA in Louisiana? Join us at the AA Archives on Saturdays this fall.
URL:https://aa-acadiana.org/event/area-27-archives-work-day/
LOCATION:Area 27 Archives\, 8676 Goodwood Blvd\, Suite A\, Baton Rouge\, Louisiana\, 70806\, United States
ORGANIZER;CN="Area 27":MAILTO:chair@aa-louisiana.org
END:VEVENT
BEGIN:VEVENT
DTSTART;TZID=America/Chicago:20250926T170000
DTEND;TZID=America/Chicago:20250927T220000
DTSTAMP:20260423T095123
CREATED:20230227T024851Z
LAST-MODIFIED:20260407T022531Z
UID:3984-1758906000-1759010400@aa-acadiana.org
SUMMARY:38th Cajun Country Conference
DESCRIPTION:Click HERE for Flyer!\n\n\n\n\n \n\n\n\n\nClick HERE for Website!
URL:https://aa-acadiana.org/event/36th-cajun-country-conference/
LOCATION:Home 2 Suites by Hilton\, 1909 Kaliste Saloom Rd\, Lafayette\, Louisiana\, 70508\, United States
ATTACH;FMTTYPE=image/webp:https://aa-acadiana.org/wp-content/uploads/2023/02/ccc-flyer2025.webp
ORGANIZER;CN="Cajun Country Conference":MAILTO:cajuncountryconferencela@gmail.com
END:VEVENT
BEGIN:VEVENT
DTSTART;TZID=America/Chicago:20250920T180000
DTEND;TZID=America/Chicago:20250920T210000
DTSTAMP:20260423T095123
CREATED:20250820T021323Z
LAST-MODIFIED:20250820T021325Z
UID:14194-1758391200-1758402000@aa-acadiana.org
SUMMARY:An Old Timers Celebration Dinner
DESCRIPTION:District 13E Host An Old Timer Celebration Dinner
URL:https://aa-acadiana.org/event/an-old-timers-celebration-dinner/
LOCATION:Louisiana
END:VEVENT
BEGIN:VEVENT
DTSTART;TZID=America/Chicago:20250913T140000
DTEND;TZID=America/Chicago:20250913T160000
DTSTAMP:20260423T095123
CREATED:20250820T021100Z
LAST-MODIFIED:20250820T021102Z
UID:14192-1757772000-1757779200@aa-acadiana.org
SUMMARY:GSR Orientation
DESCRIPTION:District 13 E Host GSR Orientation
URL:https://aa-acadiana.org/event/gsr-orientation/
LOCATION:Louisiana
END:VEVENT
BEGIN:VEVENT
DTSTART;TZID=America/Chicago:20250823T140000
DTEND;TZID=America/Chicago:20250823T160000
DTSTAMP:20260423T095123
CREATED:20250820T020423Z
LAST-MODIFIED:20250820T020442Z
UID:14188-1755957600-1755964800@aa-acadiana.org
SUMMARY:Delegate's Report
DESCRIPTION:Delegate’s Report from the General Service Conference
URL:https://aa-acadiana.org/event/delegates-report/
LOCATION:Louisiana
ATTACH;FMTTYPE=image/png:https://aa-acadiana.org/wp-content/uploads/2025/08/Delegates.png
END:VEVENT
BEGIN:VEVENT
DTSTART;TZID=America/Chicago:20250815T160000
DTEND;TZID=America/Chicago:20250817T170000
DTSTAMP:20260423T095123
CREATED:20250225T025006Z
LAST-MODIFIED:20250225T025226Z
UID:14133-1755273600-1755450000@aa-acadiana.org
SUMMARY:78th Annual Texas State Convention
DESCRIPTION:Click HERE for Flyer!\n\n\n\n\n \n\n\n\n\nClick HERE for Website!
URL:https://aa-acadiana.org/event/78th-annual-texas-state-convention/
LOCATION:Louisiana
ATTACH;FMTTYPE=image/png:https://aa-acadiana.org/wp-content/uploads/2025/02/texas-state.png
END:VEVENT
BEGIN:VEVENT
DTSTART;TZID=America/Chicago:20250808T160000
DTEND;TZID=America/Chicago:20250810T170000
DTSTAMP:20260423T095123
CREATED:20240204T153041Z
LAST-MODIFIED:20241106T221819Z
UID:13750-1754668800-1754845200@aa-acadiana.org
SUMMARY:65th Louisiana State Convention
DESCRIPTION:Click HERE for Flyer!\n\n\n\n\n \n\n\n\n\nClick HERE for Website!
URL:https://aa-acadiana.org/event/64th-louisiana-state-convention/
LOCATION:Baton Rouge Marriott\, 5500 Hilton Avenue\, Baton Rouge\, Louisiana\, 70808\, United States
ATTACH;FMTTYPE=image/png:https://aa-acadiana.org/wp-content/uploads/2024/11/state-convention.png
ORGANIZER;CN="Louisiana State Convention":MAILTO:chair@aa-lastateconvention.org
END:VEVENT
BEGIN:VEVENT
DTSTART;TZID=America/Chicago:20250614T180000
DTEND;TZID=America/Chicago:20250614T210000
DTSTAMP:20260423T095123
CREATED:20230319T012745Z
LAST-MODIFIED:20250521T041328Z
UID:4130-1749924000-1749934800@aa-acadiana.org
SUMMARY:Central Office Founders Day Chili Cook-OFF
DESCRIPTION:Click HERE for Flyer!
URL:https://aa-acadiana.org/event/central-office-spring-fling-2023/
LOCATION:St. Barnabas Church\, 400 Camellia Blvd\, Lafayette\, Louisiana\, 70503\, United States
ORGANIZER;CN="Acadiana Central Office":MAILTO:events@aa-acadiana.org
END:VEVENT
BEGIN:VEVENT
DTSTART;TZID=America/Chicago:20250531T080000
DTEND;TZID=America/Chicago:20250531T200000
DTSTAMP:20260423T095123
CREATED:20240217T032917Z
LAST-MODIFIED:20250225T031016Z
UID:13829-1748678400-1748721600@aa-acadiana.org
SUMMARY:The Convention You Cannot Mention (TCYCM)
DESCRIPTION:CLICK HERE FOR FLYER
URL:https://aa-acadiana.org/event/candlelit-blockos-tacos/
LOCATION:Louisiana
ATTACH;FMTTYPE=image/png:https://aa-acadiana.org/wp-content/uploads/2024/02/TCYCM-flyer-1.png
END:VEVENT
BEGIN:VEVENT
DTSTART;TZID=America/Chicago:20250517T100000
DTEND;TZID=America/Chicago:20250517T193000
DTSTAMP:20260423T095123
CREATED:20240302T020219Z
LAST-MODIFIED:20250225T030633Z
UID:13860-1747476000-1747510200@aa-acadiana.org
SUMMARY:Gulf Coast Group 15th Anniversary
DESCRIPTION:Click HERE for Flyer!
URL:https://aa-acadiana.org/event/gulf-coast-group-14th-anniversary/
LOCATION:Vineyard Church\, 705 Bonin Road\, Lafayette\, Louisiana\, 70508\, United States
ATTACH;FMTTYPE=image/png:https://aa-acadiana.org/wp-content/uploads/2024/03/Gulf-coast-2025.png
END:VEVENT
BEGIN:VEVENT
DTSTART;TZID=America/Chicago:20250501T170000
DTEND;TZID=America/Chicago:20250503T220000
DTSTAMP:20260423T095123
CREATED:20240222T201843Z
LAST-MODIFIED:20250202T213527Z
UID:13851-1746118800-1746309600@aa-acadiana.org
SUMMARY:26th Serenity By The Sea
DESCRIPTION:Click HERE for Flyer!
URL:https://aa-acadiana.org/event/25th-serenity-by-the-sea/
LOCATION:Grand Isle High School\, 149 Ludwig Lane\, Grand Isle\, Louisiana\, 70358\, United States
ATTACH;FMTTYPE=image/png:https://aa-acadiana.org/wp-content/uploads/2024/02/26thserenity.png
END:VEVENT
BEGIN:VEVENT
DTSTART;TZID=America/Chicago:20250320T180000
DTEND;TZID=America/Chicago:20250323T160000
DTSTAMP:20260423T095123
CREATED:20240908T180659Z
LAST-MODIFIED:20241114T052219Z
UID:13994-1742493600-1742745600@aa-acadiana.org
SUMMARY:32nd Annual Upstate AA Convention
DESCRIPTION:Click HERE for Flyer!\n\n\n\n\n \n\n\n\n\nClick HERE for Website!
URL:https://aa-acadiana.org/event/sober-and-worked-the-steps-what-now/
LOCATION:Rustic Civic Center\, 401 North Trenton Street\, Ruston\, Louisiana\, 71270
ATTACH;FMTTYPE=image/png:https://aa-acadiana.org/wp-content/uploads/2024/11/Peach-for-UpState-Flyer_Summer-Flyer-05-A5.png
END:VEVENT
BEGIN:VEVENT
DTSTART;TZID=America/Chicago:20250307T160000
DTEND;TZID=America/Chicago:20250309T120000
DTSTAMP:20260423T095123
CREATED:20240204T163318Z
LAST-MODIFIED:20241220T195227Z
UID:13759-1741363200-1741521600@aa-acadiana.org
SUMMARY:Louisiana Men's Workshop 2025
DESCRIPTION:Click HERE for Flyer!\n\n\n\n\n \n\n\n\n\nClick HERE for Website!
URL:https://aa-acadiana.org/event/louisiana-mens-workshop-2024/
LOCATION:Wesley Center\, 2350 Methodist Parkway\, Woodworth\, Louisiana\, 71485\, United States
ATTACH;FMTTYPE=image/png:https://aa-acadiana.org/wp-content/uploads/2024/08/mens-workshop.png
ORGANIZER;CN="Louisiana Men's Workshop":MAILTO:lamensworkshop@gmail.com
END:VEVENT
BEGIN:VEVENT
DTSTART;TZID=America/Chicago:20250307T160000
DTEND;TZID=America/Chicago:20250308T220000
DTSTAMP:20260423T095123
CREATED:20240204T162015Z
LAST-MODIFIED:20250225T030444Z
UID:13757-1741363200-1741471200@aa-acadiana.org
SUMMARY:Lake Area Roundup 2025
DESCRIPTION:Click HERE for Flyer!\n\n\n\n\n \n\n\n\n\nClick HERE for Website!
URL:https://aa-acadiana.org/event/lake-area-roundup-2024/
LOCATION:Lake Charles Civic Center\, 900 Lakeshore Drive\, Lake Charles\, Louisiana\, 70601\, United States
ATTACH;FMTTYPE=image/png:https://aa-acadiana.org/wp-content/uploads/2024/02/lake-area-roundup.png
ORGANIZER;CN="Lake Area Roundup":MAILTO:lakearearoundup@gmail.com
END:VEVENT
BEGIN:VEVENT
DTSTART;TZID=America/Chicago:20250207T120000
DTEND;TZID=America/Chicago:20250209T120000
DTSTAMP:20260423T095123
CREATED:20250207T161204Z
LAST-MODIFIED:20250207T161206Z
UID:14111-1738929600-1739102400@aa-acadiana.org
SUMMARY:RedStick RoundUp 2025
DESCRIPTION:
URL:https://aa-acadiana.org/event/redstick-roundup-2025/
LOCATION:Holiday Inn Baton Rouge South\, 9990 Airline Hwy\, Baton Rouge\, Louisiana\, 70816\, United States
END:VEVENT
BEGIN:VEVENT
DTSTART;TZID=America/Chicago:20241231T190000
DTEND;TZID=America/Chicago:20250101T200000
DTSTAMP:20260423T095123
CREATED:20231122T213344Z
LAST-MODIFIED:20241207T030502Z
UID:13694-1735671600-1735761600@aa-acadiana.org
SUMMARY:2024/25 ACO New Year's Alcathon
DESCRIPTION:Click HERE for Flyer!
URL:https://aa-acadiana.org/event/2023-24-aco-new-years-alcathon/
LOCATION:Turning Point\, 210 Eighth St\, Lafayette\, Louisiana\, 70501\, United States
ATTACH;FMTTYPE=image/png:https://aa-acadiana.org/wp-content/uploads/2023/11/Alcathon-2023.png
ORGANIZER;CN="Acadiana Central Office":MAILTO:events@aa-acadiana.org
END:VEVENT
BEGIN:VEVENT
DTSTART;TZID=America/Chicago:20241224T180000
DTEND;TZID=America/Chicago:20241225T190000
DTSTAMP:20260423T095123
CREATED:20231122T213152Z
LAST-MODIFIED:20241207T025934Z
UID:13692-1735063200-1735153200@aa-acadiana.org
SUMMARY:2024 ACO Christmas Alcathon
DESCRIPTION:Click HERE for Flyer!
URL:https://aa-acadiana.org/event/2023-aco-christmas-alcathon/
LOCATION:Turning Point\, 210 Eighth St\, Lafayette\, Louisiana\, 70501\, United States
ATTACH;FMTTYPE=image/png:https://aa-acadiana.org/wp-content/uploads/2023/11/Alcathon-2023.png
ORGANIZER;CN="Acadiana Central Office":MAILTO:events@aa-acadiana.org
END:VEVENT
BEGIN:VEVENT
DTSTART;TZID=America/Chicago:20241214T180000
DTEND;TZID=America/Chicago:20241214T213000
DTSTAMP:20260423T095123
CREATED:20240312T023225Z
LAST-MODIFIED:20241106T212546Z
UID:13885-1734199200-1734211800@aa-acadiana.org
SUMMARY:Anything Over Rice Holiday Cook Off
DESCRIPTION:Click HERE for Flyer!\n\n\n\n\nCook Off Entry Form:\n\n\n\nName*Home Group (If representing a group)Email*Phone*EmailSubmit\nPlease enable JavaScript in your browser to submit the form
URL:https://aa-acadiana.org/event/founders-day-chili-cook-off/
LOCATION:Robicheaux Rec Center\, 1919 Eraste Landry\, Lafayette\, LA\, 70506\, United States
ATTACH;FMTTYPE=image/png:https://aa-acadiana.org/wp-content/uploads/2024/11/Red-and-Green-Minimalist-Illustration-Christmas-Party-Poster.png
ORGANIZER;CN="Acadiana Central Office":MAILTO:events@aa-acadiana.org
END:VEVENT
BEGIN:VEVENT
DTSTART;TZID=America/Chicago:20241206T120000
DTEND;TZID=America/Chicago:20241208T170000
DTSTAMP:20260423T095123
CREATED:20240204T164310Z
LAST-MODIFIED:20241106T221248Z
UID:13767-1733486400-1733677200@aa-acadiana.org
SUMMARY:Southeast Regional Forum
DESCRIPTION:Click HERE for Flyer!\n\n\n\n\n \n\n\n\n\nClick HERE for Website!
URL:https://aa-acadiana.org/event/28th-southeast-woman-to-woman-conference/
LOCATION:Golden Nugget Biloxi\, 151 Beach Boulevard\, Biloxi
ATTACH;FMTTYPE=image/png:https://aa-acadiana.org/wp-content/uploads/2024/11/forum.png
END:VEVENT
BEGIN:VEVENT
DTSTART;TZID=America/Chicago:20240726T140000
DTEND;TZID=America/Chicago:20240728T120000
DTSTAMP:20260423T095123
CREATED:20240222T201228Z
LAST-MODIFIED:20240222T201231Z
UID:13842-1722002400-1722168000@aa-acadiana.org
SUMMARY:84th Old Grandad
DESCRIPTION:Click HERE for Flyer! [EN]\n\n\n\n\n \n\n\n\n\nClick HERE for Flyer! [SP]
URL:https://aa-acadiana.org/event/84th-old-grandad/
LOCATION:Arlington Resort Hotel & Spa\, 239 Central Ave\, Hot Springs\, Arkansas\, 71901
ATTACH;FMTTYPE=image/png:https://aa-acadiana.org/wp-content/uploads/2024/02/Old-Grandad-84.png
ORGANIZER;CN="Old Grandad Convention":MAILTO:convention@arkansasaa.org
END:VEVENT
END:VCALENDAR