BEGIN:VCALENDAR
VERSION:2.0
PRODID:-//Acadiana Central Office - ECPv6.15.20//NONSGML v1.0//EN
CALSCALE:GREGORIAN
METHOD:PUBLISH
X-WR-CALNAME:Acadiana Central Office
X-ORIGINAL-URL:https://aa-acadiana.org
X-WR-CALDESC:Events for Acadiana Central Office
REFRESH-INTERVAL;VALUE=DURATION:PT1H
X-Robots-Tag:noindex
X-PUBLISHED-TTL:PT1H
BEGIN:VTIMEZONE
TZID:America/Chicago
BEGIN:DAYLIGHT
TZOFFSETFROM:-0600
TZOFFSETTO:-0500
TZNAME:CDT
DTSTART:20250309T080000
END:DAYLIGHT
BEGIN:STANDARD
TZOFFSETFROM:-0500
TZOFFSETTO:-0600
TZNAME:CST
DTSTART:20251102T070000
END:STANDARD
BEGIN:DAYLIGHT
TZOFFSETFROM:-0600
TZOFFSETTO:-0500
TZNAME:CDT
DTSTART:20260308T080000
END:DAYLIGHT
BEGIN:STANDARD
TZOFFSETFROM:-0500
TZOFFSETTO:-0600
TZNAME:CST
DTSTART:20261101T070000
END:STANDARD
BEGIN:DAYLIGHT
TZOFFSETFROM:-0600
TZOFFSETTO:-0500
TZNAME:CDT
DTSTART:20270314T080000
END:DAYLIGHT
BEGIN:STANDARD
TZOFFSETFROM:-0500
TZOFFSETTO:-0600
TZNAME:CST
DTSTART:20271107T070000
END:STANDARD
END:VTIMEZONE
BEGIN:VEVENT
DTSTART;TZID=America/Chicago:20260821T160000
DTEND;TZID=America/Chicago:20260823T120000
DTSTAMP:20260424T072759
CREATED:20251117T233134Z
LAST-MODIFIED:20251117T233309Z
UID:14264-1787328000-1787486400@aa-acadiana.org
SUMMARY:66th Louisiana State Convention
DESCRIPTION:Click HERE for Flyer!\n\n\n\n\n \n\n\n\n\nClick HERE for Website!
URL:https://aa-acadiana.org/event/66th-louisiana-state-convention/
LOCATION:Crowne Plaza Baton Rouge\, 4728 Constitution Ave\, Baton Rouge\, Louisiana\, 70808\, United States
ATTACH;FMTTYPE=image/png:https://aa-acadiana.org/wp-content/uploads/2025/11/LA-STATE-66-Save-The-Date.png
ORGANIZER;CN="Louisiana State Convention":MAILTO:chair@aa-lastateconvention.org
END:VEVENT
END:VCALENDAR