BEGIN:VCALENDAR
VERSION:2.0
PRODID:-//Acadiana Central Office - ECPv6.15.20//NONSGML v1.0//EN
CALSCALE:GREGORIAN
METHOD:PUBLISH
X-WR-CALNAME:Acadiana Central Office
X-ORIGINAL-URL:https://aa-acadiana.org
X-WR-CALDESC:Events for Acadiana Central Office
REFRESH-INTERVAL;VALUE=DURATION:PT1H
X-Robots-Tag:noindex
X-PUBLISHED-TTL:PT1H
BEGIN:VTIMEZONE
TZID:America/Chicago
BEGIN:DAYLIGHT
TZOFFSETFROM:-0600
TZOFFSETTO:-0500
TZNAME:CDT
DTSTART:20220313T080000
END:DAYLIGHT
BEGIN:STANDARD
TZOFFSETFROM:-0500
TZOFFSETTO:-0600
TZNAME:CST
DTSTART:20221106T070000
END:STANDARD
BEGIN:DAYLIGHT
TZOFFSETFROM:-0600
TZOFFSETTO:-0500
TZNAME:CDT
DTSTART:20230312T080000
END:DAYLIGHT
BEGIN:STANDARD
TZOFFSETFROM:-0500
TZOFFSETTO:-0600
TZNAME:CST
DTSTART:20231105T070000
END:STANDARD
BEGIN:DAYLIGHT
TZOFFSETFROM:-0600
TZOFFSETTO:-0500
TZNAME:CDT
DTSTART:20240310T080000
END:DAYLIGHT
BEGIN:STANDARD
TZOFFSETFROM:-0500
TZOFFSETTO:-0600
TZNAME:CST
DTSTART:20241103T070000
END:STANDARD
END:VTIMEZONE
BEGIN:VEVENT
DTSTART;TZID=America/Chicago:20231110T150000
DTEND;TZID=America/Chicago:20231111T200000
DTSTAMP:20260425T071105
CREATED:20231019T024839Z
LAST-MODIFIED:20231019T024842Z
UID:13653-1699628400-1699732800@aa-acadiana.org
SUMMARY:43rd Bayouland Jamboree
DESCRIPTION:Click HERE for Flyer!
URL:https://aa-acadiana.org/event/43rd-bayouland-jamboree/
LOCATION:Woodmen of the World\, 309 S. Hollywood Rd\, Houma\, Louisiana\, 70360\, United States
ATTACH;FMTTYPE=image/png:https://aa-acadiana.org/wp-content/uploads/2023/10/BAYOULAND-JAMBOREE-2023.png
END:VEVENT
BEGIN:VEVENT
DTSTART;TZID=America/Chicago:20231103T180000
DTEND;TZID=America/Chicago:20231105T180000
DTSTAMP:20260425T071105
CREATED:20231019T021501Z
LAST-MODIFIED:20231019T021504Z
UID:13644-1699034400-1699207200@aa-acadiana.org
SUMMARY:AA by the Book
DESCRIPTION:Click HERE for Flyer!
URL:https://aa-acadiana.org/event/aa-by-the-book/
LOCATION:Vineyard Church\, 705 Bonin Road\, Lafayette\, Louisiana\, 70508\, United States
ATTACH;FMTTYPE=image/png:https://aa-acadiana.org/wp-content/uploads/2023/10/AA-BY-THE-BOOK.png
END:VEVENT
BEGIN:VEVENT
DTSTART;TZID=America/Chicago:20230909T140000
DTEND;TZID=America/Chicago:20230909T170000
DTSTAMP:20260425T071105
CREATED:20230623T153820Z
LAST-MODIFIED:20230803T170314Z
UID:13540-1694268000-1694278800@aa-acadiana.org
SUMMARY:District 13E Workshop
DESCRIPTION:“Dating\, Relationships and Safety in AA” \n\n\n\n \n\n\n\n\nClick HERE for FREE Registration!\n\n\n\nClick HERE for Flyer!
URL:https://aa-acadiana.org/event/district-13e-workshop/
LOCATION:The D.O.C. (Day One Clubhouse)\, 924 Kaliste Saloom Rd\, Suite B\, Lafayette\, Louisiana\, 70508
ATTACH;FMTTYPE=image/png:https://aa-acadiana.org/wp-content/uploads/2023/08/District-13E-Workshop-DRS-2023a.png
END:VEVENT
BEGIN:VEVENT
DTSTART;TZID=America/Chicago:20230908T120000
DTEND;TZID=America/Chicago:20230910T120000
DTSTAMP:20260425T071105
CREATED:20230406T021020Z
LAST-MODIFIED:20230406T021022Z
UID:4633-1694174400-1694347200@aa-acadiana.org
SUMMARY:NAATW National Technology Workshop
DESCRIPTION:Click HERE for Flyer!
URL:https://aa-acadiana.org/event/naatw-national-technology-workshop/
LOCATION:Shenndoah University\, Winchester\, Virginia
ATTACH;FMTTYPE=image/png:https://aa-acadiana.org/wp-content/uploads/2023/04/NAATW.png
END:VEVENT
BEGIN:VEVENT
DTSTART;TZID=America/Chicago:20230825T120000
DTEND;TZID=America/Chicago:20230827T120000
DTSTAMP:20260425T071105
CREATED:20230406T020622Z
LAST-MODIFIED:20230406T020624Z
UID:4629-1692964800-1693137600@aa-acadiana.org
SUMMARY:VII CONVENCION NACIONAL de ALCOHÓLICOS ANÓNIMOS DEL PERÚ
DESCRIPTION:Alcohólicos Anónimos AcadianaEstimados Compañeros:A causa de la pandemia generada por el COVID 19\, en el Perú nuestra VII Convención Nacional tuvo que postergarse por dos años. Este 25\, 26 y 27 de agosto nos reuniremos en el mas grande evento AA del país.Es por ello que deseamos hacer extensiva nuestra invitación a todos los miembros de AA de su querido país\, esperando de todo corazón\, poder estrechar lazos de hermandad y solidaridad.Pucallpa es una hermosa ciudad ubicada en la selva peruana\, capital del departamento de Ucayali. Cuenta con hermosos paisajes y costumbres ancestrales\, capaces de conquistar a todos sus visitantes. El clima cálido es refrescado por las aguas de ríos afluentes del gran Amazonas.Es una maravilla imperdible.La comunidad de AA del Perú cuenta con más de 200 grupos y 2000 compañeros ansiosos de recibirles en Pucallpa.Esperamos de corazón contar con la participación de una nutrida delegación de vuestro país.Quedamos a la espera de su pronta respuesta.A la presente adjuntamos material informativo de la nuestra convención. No dude en comunicarse con la Oficina de Servicios Generales de Lima – Perú para cualquier información.Felices 24 horas.AtteDaniel Gutarra PabloCustodio General – Territorio NorteDelegado InternacionalCoordinador Comité Internacional de laVII Convención NacionalPucallpa Perú
URL:https://aa-acadiana.org/event/vii-convencion-nacional-de-alcoholicos-anonimos-del-peru/
ATTACH;FMTTYPE=image/jpeg:https://aa-acadiana.org/wp-content/uploads/2023/04/EVENTO-2023-PUCALLPA.jpg
END:VEVENT
BEGIN:VEVENT
DTSTART;TZID=America/Chicago:20230819T160000
DTEND;TZID=America/Chicago:20230819T190000
DTSTAMP:20260425T071105
CREATED:20230619T031207Z
LAST-MODIFIED:20230708T013101Z
UID:13533-1692460800-1692471600@aa-acadiana.org
SUMMARY:Reflections 32nd Anniversary
DESCRIPTION:Click HERE for Flyer!
URL:https://aa-acadiana.org/event/reflections-32nd-anniversary/
LOCATION:St. Barnabas Church\, 400 Camellia Blvd\, Lafayette\, Louisiana\, 70503\, United States
ATTACH;FMTTYPE=image/png:https://aa-acadiana.org/wp-content/uploads/2023/07/reflectionsflyer.png
END:VEVENT
BEGIN:VEVENT
DTSTART;TZID=America/Chicago:20230819T120000
DTEND;TZID=America/Chicago:20230819T153000
DTSTAMP:20260425T071105
CREATED:20230713T151937Z
LAST-MODIFIED:20230713T161823Z
UID:13560-1692446400-1692459000@aa-acadiana.org
SUMMARY:District 4 Service Workshop
DESCRIPTION:Click HERE for Flyer!
URL:https://aa-acadiana.org/event/district-4-service-workshop/
LOCATION:The 1900 Club\, 1900 Pine Street\, Monroe\, Louisiana\, 71201\, United States
ATTACH;FMTTYPE=image/png:https://aa-acadiana.org/wp-content/uploads/2023/07/District-4-Service-2023.png
END:VEVENT
BEGIN:VEVENT
DTSTART;TZID=America/Chicago:20230818T160000
DTEND;TZID=America/Chicago:20230820T120000
DTSTAMP:20260425T071105
CREATED:20230227T024301Z
LAST-MODIFIED:20230319T055505Z
UID:3974-1692374400-1692532800@aa-acadiana.org
SUMMARY:Southeast Woman to Woman Conference 2023
DESCRIPTION:Click HERE for Flyer!
URL:https://aa-acadiana.org/event/southeast-woman-to-woman-conference-2023/
LOCATION:Hilton Garden Inn\, Summerville\, SC\, 406 Sigma Dr.\, Summerville\, South Carolina\, 29486\, United States
ATTACH;FMTTYPE=image/png:https://aa-acadiana.org/wp-content/uploads/2023/02/SEW2W-2023.png
ORGANIZER;CN="Southeast Woman to Woman Conference":MAILTO:info@sewomantowoman.org
END:VEVENT
BEGIN:VEVENT
DTSTART;TZID=America/Chicago:20230728T140000
DTEND;TZID=America/Chicago:20230730T110000
DTSTAMP:20260425T071105
CREATED:20230406T015019Z
LAST-MODIFIED:20230406T015758Z
UID:4619-1690552800-1690714800@aa-acadiana.org
SUMMARY:83rd Old Grandad Convention
DESCRIPTION:Click HERE for Flyer!
URL:https://aa-acadiana.org/event/4619/
LOCATION:Arlington Resort Hotel & Spa\, 239 Central Ave\, Hot Springs\, Arkansas\, 71901
ATTACH;FMTTYPE=image/png:https://aa-acadiana.org/wp-content/uploads/2023/04/Old-Grandad-Flyer-2023.png
ORGANIZER;CN="Old Grandad Convention":MAILTO:convention@arkansasaa.org
END:VEVENT
BEGIN:VEVENT
DTSTART;TZID=America/Chicago:20230709T120000
DTEND;TZID=America/Chicago:20230709T200000
DTSTAMP:20260425T071105
CREATED:20230406T014805Z
LAST-MODIFIED:20230530T040526Z
UID:4615-1688904000-1688932800@aa-acadiana.org
SUMMARY:2023 Louisiana State Convention
DESCRIPTION:Click HERE for Flyer!\n\n\n\n\n\n\nClick HERE for Website!\n\n\n\n\n\n\nBook a Room HERE!
URL:https://aa-acadiana.org/event/2023-louisiana-state-convention/
LOCATION:Holiday Inn Baton Rouge South\, 9990 Airline Hwy\, Baton Rouge\, Louisiana\, 70816\, United States
ATTACH;FMTTYPE=image/png:https://aa-acadiana.org/wp-content/uploads/2023/04/LSC-2023-LOGO-COLOR-CROPPED.png
END:VEVENT
BEGIN:VEVENT
DTSTART;TZID=America/Chicago:20230630T170000
DTEND;TZID=America/Chicago:20230702T120000
DTSTAMP:20260425T071105
CREATED:20230319T022824Z
LAST-MODIFIED:20230609T233113Z
UID:4147-1688144400-1688299200@aa-acadiana.org
SUMMARY:LASCYPAA XXXVII
DESCRIPTION:Click HERE for Flyer!\n\n\n\n\n \n\n\n\n\nClick HERE for Website!
URL:https://aa-acadiana.org/event/lascypaa-xxxvii/
LOCATION:Shreveport Convention Center\, 400 Caddo St\, Shreveport\, LA\, 71101\, United States
ATTACH;FMTTYPE=image/jpeg:https://aa-acadiana.org/wp-content/uploads/2023/05/LASCYPAA-2023-FLYER.jpg
ORGANIZER;CN="LASCYPAA":MAILTO:chair@lascypaa.org
END:VEVENT
BEGIN:VEVENT
DTSTART;TZID=America/Chicago:20230609T160000
DTEND;TZID=America/Chicago:20230611T120000
DTSTAMP:20260425T071105
CREATED:20230227T023649Z
LAST-MODIFIED:20230406T013126Z
UID:3970-1686326400-1686484800@aa-acadiana.org
SUMMARY:55th Big Deep South Convention
DESCRIPTION:Click HERE for Schedule!\n\n\n\n\n\n\n\nClick HERE to Register!\n\n\n\n\n\n\n\nBook a Room HERE!
URL:https://aa-acadiana.org/event/big-deep-south-convention/
LOCATION:Hilton New Orleans Airport\, 901 Airline Drive\, Kenner\, Louisiana\, 70062
ATTACH;FMTTYPE=image/png:https://aa-acadiana.org/wp-content/uploads/2023/04/Big-Deep-South-2023.png
ORGANIZER;CN="Big Deep South":MAILTO:Chair@bigdeepsouth.org
END:VEVENT
BEGIN:VEVENT
DTSTART;TZID=America/Chicago:20230527T120000
DTEND;TZID=America/Chicago:20230527T170000
DTSTAMP:20260425T071105
CREATED:20230428T201248Z
LAST-MODIFIED:20230428T201251Z
UID:12592-1685188800-1685206800@aa-acadiana.org
SUMMARY:LAFYPAA Fun In The Sun
DESCRIPTION:
URL:https://aa-acadiana.org/event/lafypaa-fun-in-the-sun/
LOCATION:Thomas Park\, 300 Geraldine Dr.\, Lafayette\, Louisiana\, 70503\, United States
ATTACH;FMTTYPE=image/jpeg:https://aa-acadiana.org/wp-content/uploads/2023/04/LAFYPAA-Day-In-the-Sun-23.jpeg
END:VEVENT
BEGIN:VEVENT
DTSTART;TZID=America/Chicago:20230526T170000
DTEND;TZID=America/Chicago:20230528T110000
DTSTAMP:20260425T071105
CREATED:20230406T024908Z
LAST-MODIFIED:20230406T024930Z
UID:4915-1685120400-1685271600@aa-acadiana.org
SUMMARY:33rd Southeast Louisiana Spring Roundup
DESCRIPTION:Click HERE for Flyer!
URL:https://aa-acadiana.org/event/33rd-southeast-louisiana-spring-roundup/
LOCATION:Courtyard New Orleans Covington/Mandeville\, 101 Northpark Blvd\, Covington\, Louisiana\, 70433
END:VEVENT
BEGIN:VEVENT
DTSTART;TZID=America/Chicago:20230520T070000
DTEND;TZID=America/Chicago:20230520T073000
DTSTAMP:20260425T071105
CREATED:20230227T023123Z
LAST-MODIFIED:20230319T055718Z
UID:3963-1684566000-1684567800@aa-acadiana.org
SUMMARY:Gulf Coast Group 13th Anniversary
DESCRIPTION:Break 1:00pm – 4:30pm \n\n\n\n\n\n\n\n\n\n\nClick HERE for Flyer!
URL:https://aa-acadiana.org/event/gulf-coast-group-13th-anniversary/
LOCATION:Vineyard Church\, 705 Bonin Road\, Lafayette\, Louisiana\, 70508\, United States
ATTACH;FMTTYPE=image/png:https://aa-acadiana.org/wp-content/uploads/2023/02/Gulf-Coast-13th.png
END:VEVENT
BEGIN:VEVENT
DTSTART;TZID=America/Chicago:20230506T133000
DTEND;TZID=America/Chicago:20230506T210000
DTSTAMP:20260425T071105
CREATED:20230319T013355Z
LAST-MODIFIED:20230319T055757Z
UID:4135-1683379800-1683406800@aa-acadiana.org
SUMMARY:What is YPAA?
DESCRIPTION:Click HERE for Flyer!
URL:https://aa-acadiana.org/event/what-is-ypaa/
LOCATION:Twin City Clubhouse\, 3416 Mac Lee Dr.\, Alexandria\, Louisiana\, 71302\, United States
ATTACH;FMTTYPE=image/jpeg:https://aa-acadiana.org/wp-content/uploads/2023/03/WHAT-IS-YPAA.jpeg
ORGANIZER;CN="LASCYPAA":MAILTO:chair@lascypaa.org
END:VEVENT
BEGIN:VEVENT
DTSTART;TZID=America/Chicago:20230506T070000
DTEND;TZID=America/Chicago:20230506T150000
DTSTAMP:20260425T071105
CREATED:20230227T022644Z
LAST-MODIFIED:20230319T055835Z
UID:3954-1683356400-1683385200@aa-acadiana.org
SUMMARY:Turning Point 50th anniversary
DESCRIPTION:Click HERE for Flyer!
URL:https://aa-acadiana.org/event/turning-point-50th-anniversary/
LOCATION:Turning Point\, 210 Eighth St\, Lafayette\, Louisiana\, 70501\, United States
ATTACH;FMTTYPE=image/jpeg:https://aa-acadiana.org/wp-content/uploads/2023/02/Turning-Point-50.jpg
END:VEVENT
BEGIN:VEVENT
DTSTART;TZID=America/Chicago:20230503T183000
DTEND;TZID=America/Chicago:20230503T193000
DTSTAMP:20260425T071105
CREATED:20230428T035337Z
LAST-MODIFIED:20230428T041552Z
UID:12574-1683138600-1683142200@aa-acadiana.org
SUMMARY:A Design For Living - New Location!
DESCRIPTION:
URL:https://aa-acadiana.org/event/a-design-for-living-new-location/
LOCATION:The D.O.C. (Day One Clubhouse)\, 924 Kaliste Saloom Rd\, Suite B\, Lafayette\, Louisiana\, 70508
ATTACH;FMTTYPE=image/jpeg:https://aa-acadiana.org/wp-content/uploads/2023/04/ADFL-Announcement.jpeg
END:VEVENT
BEGIN:VEVENT
DTSTART;TZID=America/Chicago:20230501T120000
DTEND;TZID=America/Chicago:20230501T130000
DTSTAMP:20260425T071105
CREATED:20230428T040726Z
LAST-MODIFIED:20230428T041411Z
UID:12581-1682942400-1682946000@aa-acadiana.org
SUMMARY:A Vision For You - New Location!
DESCRIPTION:Starting Monday\, 01 May 2023 @ NOON!
URL:https://aa-acadiana.org/event/a-vision-for-you-new-location/
LOCATION:The D.O.C. (Day One Clubhouse)\, 924 Kaliste Saloom Rd\, Suite B\, Lafayette\, Louisiana\, 70508
ATTACH;FMTTYPE=image/png:https://aa-acadiana.org/wp-content/uploads/2023/04/AVFY-COVER.png
END:VEVENT
BEGIN:VEVENT
DTSTART;TZID=America/Chicago:20230414T190000
DTEND;TZID=America/Chicago:20230414T200000
DTSTAMP:20260425T071105
CREATED:20230406T013705Z
LAST-MODIFIED:20230406T014118Z
UID:4606-1681498800-1681502400@aa-acadiana.org
SUMMARY:The Glum Nots New Meeting Location
DESCRIPTION:Click HERE for Flyer!
URL:https://aa-acadiana.org/event/the-glum-nots-new-meeting-location/
LOCATION:The D.O.C. (Day One Clubhouse)\, 924 Kaliste Saloom Rd\, Suite B\, Lafayette\, Louisiana\, 70508
ATTACH;FMTTYPE=image/png:https://aa-acadiana.org/wp-content/uploads/2023/04/Glum-Nots-Moving.png
END:VEVENT
END:VCALENDAR