BEGIN:VCALENDAR
VERSION:2.0
PRODID:-//Acadiana Central Office - ECPv6.15.20//NONSGML v1.0//EN
CALSCALE:GREGORIAN
METHOD:PUBLISH
X-WR-CALNAME:Acadiana Central Office
X-ORIGINAL-URL:https://aa-acadiana.org
X-WR-CALDESC:Events for Acadiana Central Office
REFRESH-INTERVAL;VALUE=DURATION:PT1H
X-Robots-Tag:noindex
X-PUBLISHED-TTL:PT1H
BEGIN:VTIMEZONE
TZID:America/Chicago
BEGIN:DAYLIGHT
TZOFFSETFROM:-0600
TZOFFSETTO:-0500
TZNAME:CDT
DTSTART:20220313T080000
END:DAYLIGHT
BEGIN:STANDARD
TZOFFSETFROM:-0500
TZOFFSETTO:-0600
TZNAME:CST
DTSTART:20221106T070000
END:STANDARD
BEGIN:DAYLIGHT
TZOFFSETFROM:-0600
TZOFFSETTO:-0500
TZNAME:CDT
DTSTART:20230312T080000
END:DAYLIGHT
BEGIN:STANDARD
TZOFFSETFROM:-0500
TZOFFSETTO:-0600
TZNAME:CST
DTSTART:20231105T070000
END:STANDARD
BEGIN:DAYLIGHT
TZOFFSETFROM:-0600
TZOFFSETTO:-0500
TZNAME:CDT
DTSTART:20240310T080000
END:DAYLIGHT
BEGIN:STANDARD
TZOFFSETFROM:-0500
TZOFFSETTO:-0600
TZNAME:CST
DTSTART:20241103T070000
END:STANDARD
END:VTIMEZONE
BEGIN:VEVENT
DTSTART;TZID=America/Chicago:20230506T070000
DTEND;TZID=America/Chicago:20230506T150000
DTSTAMP:20260425T091507
CREATED:20230227T022644Z
LAST-MODIFIED:20230319T055835Z
UID:3954-1683356400-1683385200@aa-acadiana.org
SUMMARY:Turning Point 50th anniversary
DESCRIPTION:Click HERE for Flyer!
URL:https://aa-acadiana.org/event/turning-point-50th-anniversary/
LOCATION:Turning Point\, 210 Eighth St\, Lafayette\, Louisiana\, 70501\, United States
ATTACH;FMTTYPE=image/jpeg:https://aa-acadiana.org/wp-content/uploads/2023/02/Turning-Point-50.jpg
END:VEVENT
BEGIN:VEVENT
DTSTART;TZID=America/Chicago:20230503T183000
DTEND;TZID=America/Chicago:20230503T193000
DTSTAMP:20260425T091507
CREATED:20230428T035337Z
LAST-MODIFIED:20230428T041552Z
UID:12574-1683138600-1683142200@aa-acadiana.org
SUMMARY:A Design For Living - New Location!
DESCRIPTION:
URL:https://aa-acadiana.org/event/a-design-for-living-new-location/
LOCATION:The D.O.C. (Day One Clubhouse)\, 924 Kaliste Saloom Rd\, Suite B\, Lafayette\, Louisiana\, 70508
ATTACH;FMTTYPE=image/jpeg:https://aa-acadiana.org/wp-content/uploads/2023/04/ADFL-Announcement.jpeg
END:VEVENT
BEGIN:VEVENT
DTSTART;TZID=America/Chicago:20230501T120000
DTEND;TZID=America/Chicago:20230501T130000
DTSTAMP:20260425T091507
CREATED:20230428T040726Z
LAST-MODIFIED:20230428T041411Z
UID:12581-1682942400-1682946000@aa-acadiana.org
SUMMARY:A Vision For You - New Location!
DESCRIPTION:Starting Monday\, 01 May 2023 @ NOON!
URL:https://aa-acadiana.org/event/a-vision-for-you-new-location/
LOCATION:The D.O.C. (Day One Clubhouse)\, 924 Kaliste Saloom Rd\, Suite B\, Lafayette\, Louisiana\, 70508
ATTACH;FMTTYPE=image/png:https://aa-acadiana.org/wp-content/uploads/2023/04/AVFY-COVER.png
END:VEVENT
BEGIN:VEVENT
DTSTART;TZID=America/Chicago:20230414T190000
DTEND;TZID=America/Chicago:20230414T200000
DTSTAMP:20260425T091507
CREATED:20230406T013705Z
LAST-MODIFIED:20230406T014118Z
UID:4606-1681498800-1681502400@aa-acadiana.org
SUMMARY:The Glum Nots New Meeting Location
DESCRIPTION:Click HERE for Flyer!
URL:https://aa-acadiana.org/event/the-glum-nots-new-meeting-location/
LOCATION:The D.O.C. (Day One Clubhouse)\, 924 Kaliste Saloom Rd\, Suite B\, Lafayette\, Louisiana\, 70508
ATTACH;FMTTYPE=image/png:https://aa-acadiana.org/wp-content/uploads/2023/04/Glum-Nots-Moving.png
END:VEVENT
END:VCALENDAR