BEGIN:VCALENDAR
VERSION:2.0
PRODID:-//Acadiana Central Office - ECPv6.15.20//NONSGML v1.0//EN
CALSCALE:GREGORIAN
METHOD:PUBLISH
X-ORIGINAL-URL:https://aa-acadiana.org
X-WR-CALDESC:Events for Acadiana Central Office
REFRESH-INTERVAL;VALUE=DURATION:PT1H
X-Robots-Tag:noindex
X-PUBLISHED-TTL:PT1H
BEGIN:VTIMEZONE
TZID:America/Chicago
BEGIN:DAYLIGHT
TZOFFSETFROM:-0600
TZOFFSETTO:-0500
TZNAME:CDT
DTSTART:20240310T080000
END:DAYLIGHT
BEGIN:STANDARD
TZOFFSETFROM:-0500
TZOFFSETTO:-0600
TZNAME:CST
DTSTART:20241103T070000
END:STANDARD
BEGIN:DAYLIGHT
TZOFFSETFROM:-0600
TZOFFSETTO:-0500
TZNAME:CDT
DTSTART:20250309T080000
END:DAYLIGHT
BEGIN:STANDARD
TZOFFSETFROM:-0500
TZOFFSETTO:-0600
TZNAME:CST
DTSTART:20251102T070000
END:STANDARD
BEGIN:DAYLIGHT
TZOFFSETFROM:-0600
TZOFFSETTO:-0500
TZNAME:CDT
DTSTART:20260308T080000
END:DAYLIGHT
BEGIN:STANDARD
TZOFFSETFROM:-0500
TZOFFSETTO:-0600
TZNAME:CST
DTSTART:20261101T070000
END:STANDARD
END:VTIMEZONE
BEGIN:VEVENT
DTSTART;TZID=America/Chicago:20250501T170000
DTEND;TZID=America/Chicago:20250503T220000
DTSTAMP:20260424T140449
CREATED:20240222T201843Z
LAST-MODIFIED:20250202T213527Z
UID:13851-1746118800-1746309600@aa-acadiana.org
SUMMARY:26th Serenity By The Sea
DESCRIPTION:Click HERE for Flyer!
URL:https://aa-acadiana.org/event/25th-serenity-by-the-sea/
LOCATION:Grand Isle High School\, 149 Ludwig Lane\, Grand Isle\, Louisiana\, 70358\, United States
ATTACH;FMTTYPE=image/png:https://aa-acadiana.org/wp-content/uploads/2024/02/26thserenity.png
END:VEVENT
BEGIN:VEVENT
DTSTART;TZID=America/Chicago:20250517T100000
DTEND;TZID=America/Chicago:20250517T193000
DTSTAMP:20260424T140449
CREATED:20240302T020219Z
LAST-MODIFIED:20250225T030633Z
UID:13860-1747476000-1747510200@aa-acadiana.org
SUMMARY:Gulf Coast Group 15th Anniversary
DESCRIPTION:Click HERE for Flyer!
URL:https://aa-acadiana.org/event/gulf-coast-group-14th-anniversary/
LOCATION:Vineyard Church\, 705 Bonin Road\, Lafayette\, Louisiana\, 70508\, United States
ATTACH;FMTTYPE=image/png:https://aa-acadiana.org/wp-content/uploads/2024/03/Gulf-coast-2025.png
END:VEVENT
BEGIN:VEVENT
DTSTART;TZID=America/Chicago:20250531T080000
DTEND;TZID=America/Chicago:20250531T200000
DTSTAMP:20260424T140449
CREATED:20240217T032917Z
LAST-MODIFIED:20250225T031016Z
UID:13829-1748678400-1748721600@aa-acadiana.org
SUMMARY:The Convention You Cannot Mention (TCYCM)
DESCRIPTION:CLICK HERE FOR FLYER
URL:https://aa-acadiana.org/event/candlelit-blockos-tacos/
LOCATION:Louisiana
ATTACH;FMTTYPE=image/png:https://aa-acadiana.org/wp-content/uploads/2024/02/TCYCM-flyer-1.png
END:VEVENT
END:VCALENDAR